Package: IsoformSwitchAnalyzeR Version: 2.11.0 Command: /home/biocbuild/bbs-3.23-bioc/R/bin/R CMD INSTALL IsoformSwitchAnalyzeR StartedAt: 2025-11-13 15:50:49 -0500 (Thu, 13 Nov 2025) EndedAt: 2025-11-13 15:51:52 -0500 (Thu, 13 Nov 2025) EllapsedTime: 63.3 seconds RetCode: 0 Status: OK