Package: IsoformSwitchAnalyzeR Version: 2.11.0 Command: /home/biocbuild/bbs-3.23-bioc/R/bin/R CMD build --keep-empty-dirs --no-resave-data IsoformSwitchAnalyzeR StartedAt: 2025-11-13 18:16:10 -0500 (Thu, 13 Nov 2025) EndedAt: 2025-11-13 18:19:32 -0500 (Thu, 13 Nov 2025) EllapsedTime: 202.3 seconds RetCode: 0 Status: OK PackageFile: IsoformSwitchAnalyzeR_2.11.0.tar.gz PackageFileSize: 6.459 MiB