Package: IsoformSwitchAnalyzeR Version: 2.11.0 Command: /Library/Frameworks/R.framework/Resources/bin/R CMD INSTALL IsoformSwitchAnalyzeR StartedAt: 2025-11-12 15:41:20 -0500 (Wed, 12 Nov 2025) EndedAt: 2025-11-12 15:41:21 -0500 (Wed, 12 Nov 2025) EllapsedTime: 1.1 seconds RetCode: 1 Status: ERROR