Package: IsoformSwitchAnalyzeR Version: 2.11.0 Maintainer: Kristoffer Vitting-Seerup MaintainerEmail: k.vitting.seerup at gmail.com git_url: https://git.bioconductor.org/packages/IsoformSwitchAnalyzeR git_branch: devel git_last_commit: dc055b6 git_last_commit_date: 2025-10-29 10:38:58 -0500 (Wed, 29 Oct 2025)