Package: IsoCorrectoRGUI Version: 1.27.0 Command: /home/biocbuild/bbs-3.23-bioc/R/bin/R CMD check --install=check:IsoCorrectoRGUI.install-out.txt --library=/home/biocbuild/bbs-3.23-bioc/R/site-library --timings IsoCorrectoRGUI_1.27.0.tar.gz StartedAt: 2025-11-14 00:45:17 -0500 (Fri, 14 Nov 2025) EndedAt: 2025-11-14 00:45:53 -0500 (Fri, 14 Nov 2025) EllapsedTime: 36.0 seconds RetCode: 0 Status: OK CheckDir: IsoCorrectoRGUI.Rcheck Warnings: 0