Package: IsoCorrectoRGUI Version: 1.27.0 Command: /Library/Frameworks/R.framework/Resources/bin/R CMD INSTALL IsoCorrectoRGUI StartedAt: 2025-11-13 15:05:01 -0500 (Thu, 13 Nov 2025) EndedAt: 2025-11-13 15:05:04 -0500 (Thu, 13 Nov 2025) EllapsedTime: 3.1 seconds RetCode: 0 Status: OK