Package: IsoCorrectoRGUI Version: 1.27.0 Command: /Library/Frameworks/R.framework/Resources/bin/R CMD check --install=check:IsoCorrectoRGUI.install-out.txt --library=/Library/Frameworks/R.framework/Resources/library --no-vignettes --timings IsoCorrectoRGUI_1.27.0.tar.gz StartedAt: 2025-11-14 20:35:52 -0500 (Fri, 14 Nov 2025) EndedAt: 2025-11-14 20:36:27 -0500 (Fri, 14 Nov 2025) EllapsedTime: 34.4 seconds RetCode: 0 Status: OK CheckDir: IsoCorrectoRGUI.Rcheck Warnings: 0