Package: IsoCorrectoR Version: 1.29.0 Command: /home/biocbuild/bbs-3.23-bioc/R/bin/R CMD INSTALL IsoCorrectoR StartedAt: 2025-11-13 15:08:39 -0500 (Thu, 13 Nov 2025) EndedAt: 2025-11-13 15:08:44 -0500 (Thu, 13 Nov 2025) EllapsedTime: 5.5 seconds RetCode: 0 Status: OK