Package: IsoCorrectoR Version: 1.29.0 Command: /home/biocbuild/bbs-3.23-bioc/R/bin/R CMD build --keep-empty-dirs --no-resave-data IsoCorrectoR StartedAt: 2025-11-13 18:16:00 -0500 (Thu, 13 Nov 2025) EndedAt: 2025-11-13 18:16:10 -0500 (Thu, 13 Nov 2025) EllapsedTime: 10.0 seconds RetCode: 0 Status: OK PackageFile: IsoCorrectoR_1.29.0.tar.gz PackageFileSize: 1.662 MiB