Package: IsoCorrectoR Version: 1.29.0 Maintainer: Christian Kohler MaintainerEmail: christian.kohler at ur.de git_url: https://git.bioconductor.org/packages/IsoCorrectoR git_branch: devel git_last_commit: 9553234 git_last_commit_date: 2025-10-29 10:47:45 -0500 (Wed, 29 Oct 2025)