Package: IntramiRExploreR Version: 1.33.0 Command: /home/biocbuild/bbs-3.23-bioc/R/bin/R CMD check --install=check:IntramiRExploreR.install-out.txt --library=/home/biocbuild/bbs-3.23-bioc/R/site-library --timings IntramiRExploreR_1.33.0.tar.gz StartedAt: 2025-11-24 00:35:51 -0500 (Mon, 24 Nov 2025) EndedAt: 2025-11-24 00:36:45 -0500 (Mon, 24 Nov 2025) EllapsedTime: 54.1 seconds RetCode: 0 Status: WARNINGS CheckDir: IntramiRExploreR.Rcheck Warnings: 2