Package: IntramiRExploreR Version: 1.33.0 Command: /Library/Frameworks/R.framework/Resources/bin/R CMD INSTALL IntramiRExploreR StartedAt: 2025-11-12 15:20:53 -0500 (Wed, 12 Nov 2025) EndedAt: 2025-11-12 15:20:58 -0500 (Wed, 12 Nov 2025) EllapsedTime: 4.6 seconds RetCode: 0 Status: OK