Package: IntramiRExploreR Version: 1.33.0 Command: rm -rf IntramiRExploreR.buildbin-libdir && mkdir IntramiRExploreR.buildbin-libdir && /Users/biocbuild/BBS/utils/build-universal.sh IntramiRExploreR_1.33.0.tar.gz /Library/Frameworks/R.framework/Resources/bin/R IntramiRExploreR.buildbin-libdir StartedAt: 2025-11-13 23:42:09 -0500 (Thu, 13 Nov 2025) EndedAt: 2025-11-13 23:42:16 -0500 (Thu, 13 Nov 2025) EllapsedTime: 7.1 seconds RetCode: 0 Status: OK PackageFile: IntramiRExploreR_1.33.0.tgz PackageFileSize: 13.36 MiB