Package: IntramiRExploreR Version: 1.33.0 Maintainer: Surajit Bhattacharya MaintainerEmail: sbhattach2 at childrensnational.org git_url: https://git.bioconductor.org/packages/IntramiRExploreR git_branch: devel git_last_commit: a28504f git_last_commit_date: 2025-10-29 11:12:17 -0500 (Wed, 29 Oct 2025)