Package: InteractiveComplexHeatmap Version: 1.19.0 Command: /home/biocbuild/bbs-3.23-bioc/R/bin/R CMD INSTALL InteractiveComplexHeatmap StartedAt: 2025-11-11 15:18:37 -0500 (Tue, 11 Nov 2025) EndedAt: 2025-11-11 15:18:49 -0500 (Tue, 11 Nov 2025) EllapsedTime: 12.6 seconds RetCode: 0 Status: OK