Package: InteractiveComplexHeatmap Version: 1.19.0 Command: /home/biocbuild/bbs-3.23-bioc/R/bin/R CMD build --keep-empty-dirs --no-resave-data InteractiveComplexHeatmap StartedAt: 2025-11-11 18:16:49 -0500 (Tue, 11 Nov 2025) EndedAt: 2025-11-11 18:17:27 -0500 (Tue, 11 Nov 2025) EllapsedTime: 38.0 seconds RetCode: 0 Status: OK PackageFile: InteractiveComplexHeatmap_1.19.0.tar.gz PackageFileSize: 949.5 KiB