Package: InteractiveComplexHeatmap Version: 1.19.0 Command: /Library/Frameworks/R.framework/Resources/bin/R CMD INSTALL InteractiveComplexHeatmap StartedAt: 2025-11-13 15:07:48 -0500 (Thu, 13 Nov 2025) EndedAt: 2025-11-13 15:07:55 -0500 (Thu, 13 Nov 2025) EllapsedTime: 6.5 seconds RetCode: 0 Status: OK