Package: InteractiveComplexHeatmap Version: 1.19.0 Command: /Library/Frameworks/R.framework/Resources/bin/R CMD check --install=check:InteractiveComplexHeatmap.install-out.txt --library=/Library/Frameworks/R.framework/Resources/library --no-vignettes --timings InteractiveComplexHeatmap_1.19.0.tar.gz StartedAt: 2025-11-14 20:31:40 -0500 (Fri, 14 Nov 2025) EndedAt: 2025-11-14 20:32:25 -0500 (Fri, 14 Nov 2025) EllapsedTime: 44.5 seconds RetCode: 0 Status: OK CheckDir: InteractiveComplexHeatmap.Rcheck Warnings: 0