Package: InteractiveComplexHeatmap Version: 1.19.0 Command: /Library/Frameworks/R.framework/Resources/bin/R CMD build --keep-empty-dirs --no-resave-data InteractiveComplexHeatmap StartedAt: 2025-11-12 16:32:18 -0500 (Wed, 12 Nov 2025) EndedAt: 2025-11-12 16:32:35 -0500 (Wed, 12 Nov 2025) EllapsedTime: 17.2 seconds RetCode: 0 Status: OK PackageFile: InteractiveComplexHeatmap_1.19.0.tar.gz PackageFileSize: 968.7 KiB