Package: InteractionSet Version: 1.39.0 Command: /home/biocbuild/bbs-3.23-bioc/R/bin/R CMD check --install=check:InteractionSet.install-out.txt --library=/home/biocbuild/bbs-3.23-bioc/R/site-library --timings InteractionSet_1.39.0.tar.gz StartedAt: 2025-11-17 00:43:52 -0500 (Mon, 17 Nov 2025) EndedAt: 2025-11-17 00:48:25 -0500 (Mon, 17 Nov 2025) EllapsedTime: 273.4 seconds RetCode: 0 Status: OK CheckDir: InteractionSet.Rcheck Warnings: 0