Package: InteractionSet Version: 1.39.0 Command: /Library/Frameworks/R.framework/Resources/bin/R CMD build --keep-empty-dirs --no-resave-data InteractionSet StartedAt: 2025-11-12 16:32:02 -0500 (Wed, 12 Nov 2025) EndedAt: 2025-11-12 16:32:24 -0500 (Wed, 12 Nov 2025) EllapsedTime: 22.2 seconds RetCode: 0 Status: OK PackageFile: InteractionSet_1.39.0.tar.gz PackageFileSize: 391.5 KiB