Package: InterCellar Version: 2.17.0 Command: /home/biocbuild/bbs-3.23-bioc/R/bin/R CMD INSTALL InterCellar StartedAt: 2025-11-13 15:26:20 -0500 (Thu, 13 Nov 2025) EndedAt: 2025-11-13 15:26:47 -0500 (Thu, 13 Nov 2025) EllapsedTime: 27.3 seconds RetCode: 0 Status: OK