Package: InterCellar Version: 2.17.0 Command: /home/biocbuild/bbs-3.23-bioc/R/bin/R CMD build --keep-empty-dirs --no-resave-data InterCellar StartedAt: 2025-11-14 18:13:24 -0500 (Fri, 14 Nov 2025) EndedAt: 2025-11-14 18:14:01 -0500 (Fri, 14 Nov 2025) EllapsedTime: 37.1 seconds RetCode: 0 Status: OK PackageFile: InterCellar_2.17.0.tar.gz PackageFileSize: 4.016 MiB