Package: InterCellar Version: 2.17.0 Command: /Library/Frameworks/R.framework/Resources/bin/R CMD INSTALL InterCellar StartedAt: 2025-11-14 15:09:45 -0500 (Fri, 14 Nov 2025) EndedAt: 2025-11-14 15:09:56 -0500 (Fri, 14 Nov 2025) EllapsedTime: 10.6 seconds RetCode: 0 Status: OK