Package: InterCellar Version: 2.17.0 Command: /Library/Frameworks/R.framework/Resources/bin/R CMD build --keep-empty-dirs --no-resave-data InterCellar StartedAt: 2025-11-14 16:43:58 -0500 (Fri, 14 Nov 2025) EndedAt: 2025-11-14 16:44:14 -0500 (Fri, 14 Nov 2025) EllapsedTime: 16.2 seconds RetCode: 0 Status: OK PackageFile: InterCellar_2.17.0.tar.gz PackageFileSize: 4.016 MiB