Package: IntEREst Version: 1.35.0 Command: /home/biocbuild/bbs-3.23-bioc/R/bin/R CMD INSTALL IntEREst StartedAt: 2025-11-13 15:57:57 -0500 (Thu, 13 Nov 2025) EndedAt: 2025-11-13 15:58:49 -0500 (Thu, 13 Nov 2025) EllapsedTime: 52.2 seconds RetCode: 0 Status: OK