Package: IntEREst Version: 1.35.0 Command: /Library/Frameworks/R.framework/Resources/bin/R CMD INSTALL IntEREst StartedAt: 2025-11-13 15:30:55 -0500 (Thu, 13 Nov 2025) EndedAt: 2025-11-13 15:31:17 -0500 (Thu, 13 Nov 2025) EllapsedTime: 21.6 seconds RetCode: 0 Status: OK