Package: IntEREst Version: 1.35.0 Command: /Library/Frameworks/R.framework/Resources/bin/R CMD build --keep-empty-dirs --no-resave-data IntEREst StartedAt: 2025-11-14 16:44:06 -0500 (Fri, 14 Nov 2025) EndedAt: 2025-11-14 16:44:35 -0500 (Fri, 14 Nov 2025) EllapsedTime: 28.3 seconds RetCode: 1 Status: ERROR PackageFile: None PackageFileSize: NA