Package: Informeasure Version: 1.21.0 Command: /Library/Frameworks/R.framework/Resources/bin/R CMD INSTALL Informeasure StartedAt: 2025-11-16 15:01:50 -0500 (Sun, 16 Nov 2025) EndedAt: 2025-11-16 15:01:56 -0500 (Sun, 16 Nov 2025) EllapsedTime: 6.0 seconds RetCode: 0 Status: OK