Package: Informeasure Version: 1.21.0 Command: /Library/Frameworks/R.framework/Resources/bin/R CMD build --keep-empty-dirs --no-resave-data Informeasure StartedAt: 2025-11-14 16:43:18 -0500 (Fri, 14 Nov 2025) EndedAt: 2025-11-14 16:43:23 -0500 (Fri, 14 Nov 2025) EllapsedTime: 5.1 seconds RetCode: 0 Status: OK PackageFile: Informeasure_1.21.0.tar.gz PackageFileSize: 276.5 KiB