Package: InTAD Version: 1.31.0 Command: /Library/Frameworks/R.framework/Resources/bin/R CMD INSTALL InTAD StartedAt: 2025-11-14 15:16:47 -0500 (Fri, 14 Nov 2025) EndedAt: 2025-11-14 15:17:03 -0500 (Fri, 14 Nov 2025) EllapsedTime: 16.2 seconds RetCode: 0 Status: OK