Package: InTAD Version: 1.31.0 Command: /Library/Frameworks/R.framework/Resources/bin/R CMD build --keep-empty-dirs --no-resave-data InTAD StartedAt: 2025-11-14 16:43:33 -0500 (Fri, 14 Nov 2025) EndedAt: 2025-11-14 16:43:58 -0500 (Fri, 14 Nov 2025) EllapsedTime: 25.3 seconds RetCode: 0 Status: OK PackageFile: InTAD_1.31.0.tar.gz PackageFileSize: 1.234 MiB