Package: InTAD Version: 1.31.0 Command: rm -rf InTAD.buildbin-libdir && mkdir InTAD.buildbin-libdir && /Users/biocbuild/BBS/utils/build-universal.sh InTAD_1.31.0.tar.gz /Library/Frameworks/R.framework/Resources/bin/R InTAD.buildbin-libdir StartedAt: 2025-11-14 23:37:07 -0500 (Fri, 14 Nov 2025) EndedAt: 2025-11-14 23:37:27 -0500 (Fri, 14 Nov 2025) EllapsedTime: 19.4 seconds RetCode: 0 Status: OK PackageFile: InTAD_1.31.0.tgz PackageFileSize: 1.498 MiB