Package: InTAD Version: 1.31.0 Maintainer: Konstantin Okonechnikov MaintainerEmail: k.okonechnikov at gmail.com git_url: https://git.bioconductor.org/packages/InTAD git_branch: devel git_last_commit: c1355bb git_last_commit_date: 2025-10-29 10:44:46 -0500 (Wed, 29 Oct 2025)