Package: InPAS Version: 2.19.0 Command: /Library/Frameworks/R.framework/Resources/bin/R CMD INSTALL InPAS StartedAt: 2025-11-12 15:42:13 -0500 (Wed, 12 Nov 2025) EndedAt: 2025-11-12 15:42:20 -0500 (Wed, 12 Nov 2025) EllapsedTime: 6.8 seconds RetCode: 1 Status: ERROR