############################################################################## ############################################################################## ### ### Running command: ### ### /Library/Frameworks/R.framework/Resources/bin/R CMD build --keep-empty-dirs --no-resave-data InPAS ### ############################################################################## ############################################################################## * checking for file ‘InPAS/DESCRIPTION’ ... OK * preparing ‘InPAS’: * checking DESCRIPTION meta-information ... OK * installing the package (it is needed to build vignettes) ----------------------------------- * installing *source* package ‘InPAS’ ... ** this is package ‘InPAS’ version ‘2.19.0’ ** using staged installation ** R ** data *** moving datasets to lazyload DB ** inst ** byte-compile and prepare package for lazy loading Error: object ‘filter’ is not exported by 'namespace:plyranges' Execution halted ERROR: lazy loading failed for package ‘InPAS’ * removing ‘/private/var/folders/r0/l4fjk6cj5xj0j3brt4bplpl40000gt/T/Rtmp4p2xX4/Rinst1363a3ecaedac/InPAS’ ----------------------------------- ERROR: package installation failed