Package: IgGeneUsage Version: 1.25.0 Command: /Library/Frameworks/R.framework/Resources/bin/R CMD build --keep-empty-dirs --no-resave-data IgGeneUsage StartedAt: 2025-11-12 16:30:38 -0500 (Wed, 12 Nov 2025) EndedAt: 2025-11-12 16:35:10 -0500 (Wed, 12 Nov 2025) EllapsedTime: 272.1 seconds RetCode: 0 Status: OK PackageFile: IgGeneUsage_1.25.0.tar.gz PackageFileSize: 1.201 MiB