Package: IgGeneUsage Version: 1.25.0 Command: rm -rf IgGeneUsage.buildbin-libdir && mkdir IgGeneUsage.buildbin-libdir && /Users/biocbuild/BBS/utils/build-universal.sh IgGeneUsage_1.25.0.tar.gz /Library/Frameworks/R.framework/Resources/bin/R IgGeneUsage.buildbin-libdir StartedAt: 2025-11-12 21:00:20 -0500 (Wed, 12 Nov 2025) EndedAt: 2025-11-12 21:03:16 -0500 (Wed, 12 Nov 2025) EllapsedTime: 175.9 seconds RetCode: 0 Status: OK PackageFile: IgGeneUsage_1.25.0.tgz PackageFileSize: 2.973 MiB