Package: IgGeneUsage Version: 1.25.0 Maintainer: Simo Kitanovski MaintainerEmail: simo.kitanovski at uni-due.de git_url: https://git.bioconductor.org/packages/IgGeneUsage git_branch: devel git_last_commit: 03134f1 git_last_commit_date: 2025-10-29 10:53:29 -0500 (Wed, 29 Oct 2025)