Package: IdeoViz Version: 1.47.0 Command: /Library/Frameworks/R.framework/Resources/bin/R CMD INSTALL IdeoViz StartedAt: 2025-11-23 15:18:06 -0500 (Sun, 23 Nov 2025) EndedAt: 2025-11-23 15:18:19 -0500 (Sun, 23 Nov 2025) EllapsedTime: 12.4 seconds RetCode: 0 Status: OK