Package: IdeoViz Version: 1.47.0 Command: /Library/Frameworks/R.framework/Resources/bin/R CMD build --keep-empty-dirs --no-resave-data IdeoViz StartedAt: 2025-11-21 16:40:05 -0500 (Fri, 21 Nov 2025) EndedAt: 2025-11-21 16:40:06 -0500 (Fri, 21 Nov 2025) EllapsedTime: 1.0 seconds RetCode: 0 Status: OK PackageFile: IdeoViz_1.47.0.tar.gz PackageFileSize: 411.8 KiB