Package: Ibex Version: 1.1.0 Command: /Library/Frameworks/R.framework/Resources/bin/R CMD build --keep-empty-dirs --no-resave-data Ibex StartedAt: 2025-11-14 16:40:26 -0500 (Fri, 14 Nov 2025) EndedAt: 2025-11-14 16:41:38 -0500 (Fri, 14 Nov 2025) EllapsedTime: 71.8 seconds RetCode: 0 Status: OK PackageFile: Ibex_1.1.0.tar.gz PackageFileSize: 4.065 MiB