Package: IVAS Version: 2.31.0 Command: /Library/Frameworks/R.framework/Resources/bin/R CMD INSTALL IVAS StartedAt: 2025-11-14 15:23:43 -0500 (Fri, 14 Nov 2025) EndedAt: 2025-11-14 15:23:59 -0500 (Fri, 14 Nov 2025) EllapsedTime: 16.5 seconds RetCode: 0 Status: OK