Package: IVAS Version: 2.31.0 Command: /Library/Frameworks/R.framework/Resources/bin/R CMD build --keep-empty-dirs --no-resave-data IVAS StartedAt: 2025-11-14 16:45:45 -0500 (Fri, 14 Nov 2025) EndedAt: 2025-11-14 16:46:16 -0500 (Fri, 14 Nov 2025) EllapsedTime: 30.3 seconds RetCode: 0 Status: OK PackageFile: IVAS_2.31.0.tar.gz PackageFileSize: 252.6 KiB