Package: IVAS Version: 2.31.0 Command: rm -rf IVAS.buildbin-libdir && mkdir IVAS.buildbin-libdir && /Users/biocbuild/BBS/utils/build-universal.sh IVAS_2.31.0.tar.gz /Library/Frameworks/R.framework/Resources/bin/R IVAS.buildbin-libdir StartedAt: 2025-11-14 23:37:49 -0500 (Fri, 14 Nov 2025) EndedAt: 2025-11-14 23:38:11 -0500 (Fri, 14 Nov 2025) EllapsedTime: 21.5 seconds RetCode: 0 Status: OK PackageFile: IVAS_2.31.0.tgz PackageFileSize: 681.4 KiB