Package: ITALICS Version: 2.71.0 Command: /Library/Frameworks/R.framework/Resources/bin/R CMD INSTALL ITALICS StartedAt: 2025-11-13 15:33:25 -0500 (Thu, 13 Nov 2025) EndedAt: 2025-11-13 15:33:36 -0500 (Thu, 13 Nov 2025) EllapsedTime: 11.4 seconds RetCode: 0 Status: OK