Package: ITALICS Version: 2.71.0 Command: /Library/Frameworks/R.framework/Resources/bin/R CMD build --keep-empty-dirs --no-resave-data ITALICS StartedAt: 2025-11-13 16:48:50 -0500 (Thu, 13 Nov 2025) EndedAt: 2025-11-13 16:49:16 -0500 (Thu, 13 Nov 2025) EllapsedTime: 25.3 seconds RetCode: 0 Status: OK PackageFile: ITALICS_2.71.0.tar.gz PackageFileSize: 615.8 KiB