Package: ITALICS Version: 2.71.0 Command: rm -rf ITALICS.buildbin-libdir && mkdir ITALICS.buildbin-libdir && /Users/biocbuild/BBS/utils/build-universal.sh ITALICS_2.71.0.tar.gz /Library/Frameworks/R.framework/Resources/bin/R ITALICS.buildbin-libdir StartedAt: 2025-11-13 23:42:43 -0500 (Thu, 13 Nov 2025) EndedAt: 2025-11-13 23:42:56 -0500 (Thu, 13 Nov 2025) EllapsedTime: 13.3 seconds RetCode: 0 Status: OK PackageFile: ITALICS_2.71.0.tgz PackageFileSize: 556.5 KiB