Package: ITALICS Version: 2.71.0 Maintainer: Guillem Rigaill MaintainerEmail: italics at curie.fr git_url: https://git.bioconductor.org/packages/ITALICS git_branch: devel git_last_commit: afe983f git_last_commit_date: 2025-10-29 10:01:06 -0500 (Wed, 29 Oct 2025)