Package: ISLET Version: 1.13.0 Command: /Library/Frameworks/R.framework/Resources/bin/R CMD INSTALL ISLET StartedAt: 2025-11-14 15:13:02 -0500 (Fri, 14 Nov 2025) EndedAt: 2025-11-14 15:13:13 -0500 (Fri, 14 Nov 2025) EllapsedTime: 10.5 seconds RetCode: 0 Status: OK